BEGIN:VCALENDAR
VERSION:2.0
PRODID:-//Neighbors Inc. - ECPv6.15.13.1//NONSGML v1.0//EN
CALSCALE:GREGORIAN
METHOD:PUBLISH
X-ORIGINAL-URL:https://www.neighborsmn.org
X-WR-CALDESC:Events for Neighbors Inc.
REFRESH-INTERVAL;VALUE=DURATION:PT1H
X-Robots-Tag:noindex
X-PUBLISHED-TTL:PT1H
BEGIN:VTIMEZONE
TZID:America/Chicago
BEGIN:DAYLIGHT
TZOFFSETFROM:-0600
TZOFFSETTO:-0500
TZNAME:CDT
DTSTART:20240310T080000
END:DAYLIGHT
BEGIN:STANDARD
TZOFFSETFROM:-0500
TZOFFSETTO:-0600
TZNAME:CST
DTSTART:20241103T070000
END:STANDARD
BEGIN:DAYLIGHT
TZOFFSETFROM:-0600
TZOFFSETTO:-0500
TZNAME:CDT
DTSTART:20250309T080000
END:DAYLIGHT
BEGIN:STANDARD
TZOFFSETFROM:-0500
TZOFFSETTO:-0600
TZNAME:CST
DTSTART:20251102T070000
END:STANDARD
BEGIN:DAYLIGHT
TZOFFSETFROM:-0600
TZOFFSETTO:-0500
TZNAME:CDT
DTSTART:20260308T080000
END:DAYLIGHT
BEGIN:STANDARD
TZOFFSETFROM:-0500
TZOFFSETTO:-0600
TZNAME:CST
DTSTART:20261101T070000
END:STANDARD
END:VTIMEZONE
BEGIN:VEVENT
DTSTART;TZID=America/Chicago:20251210T190000
DTEND;TZID=America/Chicago:20251210T220000
DTSTAMP:20260421T165535
CREATED:20170504T174823Z
LAST-MODIFIED:20251029T191247Z
UID:4018-1765393200-1765404000@www.neighborsmn.org
SUMMARY:It's a Wonderful Life
DESCRIPTION:It’s A Wonderful Life: A Live Radio Play Benefit Performance\nWednesday\, December 10th\, 2025 @ 7:00pm\nRegistration and Social Hour to start at 6:00pm. \nThe show starts at 7:00pm \nGet ready to start your holiday season off right with a special performance of a holiday classic at the beautiful Saint Paul Hotel. The cast will transport you to Bedford Falls as you watch the story unfold as if it were a radio broadcast from the 1940s. Bring your friends and family for this memorable night. All proceeds from this performance will benefit Neighbors. \nTickets are $28.52 each after fees with the option of purchasing a table (seats 8) for $215.26 after fees. \nAll seating will be at tables (max 8 people per table.) Tables will be assigned in advance. \nBuy your tickets NOW. \nSpecial thanks to the amazing cast & The Saint Paul Hotel for their support. 
URL:https://www.neighborsmn.org/event/wonderful-life-event/
LOCATION:St. Paul Hotel\, 350 Market Street\, St. Paul\, MN\, 55102\, United States
CATEGORIES:Special Event
ATTACH;FMTTYPE=image/jpeg:https://www.neighborsmn.org/wp-content/uploads/2017/05/Screenshot-2024-08-13-151746.jpg
END:VEVENT
END:VCALENDAR